View In:
ArcGIS JavaScript
ArcGIS Online Map Viewer
ArcGIS Earth
Service Description: GlynnImagery2024
Name: GlynnImagery2024
Description:
Single Fused Map Cache: true
Tile Info:
- Height: 256
- Width: 256
- DPI: 96
-
Levels of Detail: 24
-
Level ID: 0
[ Start Tile, End Tile ]
- Resolution: 256339.8265954633
- Scale: 2.9530407084611547E8
-
Level ID: 1
[ Start Tile, End Tile ]
- Resolution: 128169.91329773165
- Scale: 1.4765203542305773E8
-
Level ID: 2
[ Start Tile, End Tile ]
- Resolution: 64084.956648865824
- Scale: 7.382601771152887E7
-
Level ID: 3
[ Start Tile, End Tile ]
- Resolution: 32042.478324432912
- Scale: 3.6913008855764434E7
-
Level ID: 4
[ Start Tile, End Tile ]
- Resolution: 16021.239162216456
- Scale: 1.8456504427882217E7
-
Level ID: 5
[ Start Tile, End Tile ]
- Resolution: 8010.619581108228
- Scale: 9228252.213941108
-
Level ID: 6
[ Start Tile, End Tile ]
- Resolution: 4005.309790554114
- Scale: 4614126.106970554
-
Level ID: 7
[ Start Tile, End Tile ]
- Resolution: 2002.654895277057
- Scale: 2307063.053485277
-
Level ID: 8
[ Start Tile, End Tile ]
- Resolution: 1001.3274476385285
- Scale: 1153531.5267426386
-
Level ID: 9
[ Start Tile, End Tile ]
- Resolution: 500.66372381926425
- Scale: 576765.7633713193
-
Level ID: 10
[ Start Tile, End Tile ]
- Resolution: 250.33186190963212
- Scale: 288382.88168565964
-
Level ID: 11
[ Start Tile, End Tile ]
- Resolution: 125.16593095481606
- Scale: 144191.44084282982
-
Level ID: 12
[ Start Tile, End Tile ]
- Resolution: 62.58296547740803
- Scale: 72095.72042141491
-
Level ID: 13
[ Start Tile, End Tile ]
- Resolution: 31.291482738704016
- Scale: 36047.860210707455
-
Level ID: 14
[ Start Tile, End Tile ]
- Resolution: 15.645741369352008
- Scale: 18023.930105353727
-
Level ID: 15
[ Start Tile, End Tile ]
- Resolution: 7.822870684676004
- Scale: 9011.965052676864
-
Level ID: 16
[ Start Tile, End Tile ]
- Resolution: 3.911435342338002
- Scale: 4505.982526338432
-
Level ID: 17
[ Start Tile, End Tile ]
- Resolution: 1.955717671169001
- Scale: 2252.991263169216
-
Level ID: 18
[ Start Tile, End Tile ]
- Resolution: 0.9778588355845005
- Scale: 1126.495631584608
-
Level ID: 19
[ Start Tile, End Tile ]
- Resolution: 0.48892941779225024
- Scale: 563.247815792304
-
Level ID: 20
[ Start Tile, End Tile ]
- Resolution: 0.24446470889612512
- Scale: 281.623907896152
-
Level ID: 21
[ Start Tile, End Tile ]
- Resolution: 0.12223235444806256
- Scale: 140.811953948076
-
Level ID: 22
[ Start Tile, End Tile ]
- Resolution: 0.06111617722403128
- Scale: 70.405976974038
-
Level ID: 23
[ Start Tile, End Tile ]
- Resolution: 0.03055808861201564
- Scale: 35.202988487019
- Format: MIXED
- Compression Quality: 75.0
- LERC Error: NaN
- Origin: X: -3.2155331137552634E7
Y: 2.1919848371993378E7
- Spatial Reference: 102666
(2239)
Storage Info:
- Storage Format: esriMapCacheStorageModeCompactV2
- Packet Size: 128
Extent:
XMin: 775000.2286347598
YMin: 349999.87198785634
XMax: 945000.2286348271
YMax: 539999.871987905
Spatial Reference: 102666
(2239)
Initial Extent:
XMin: 775000.2286347598
YMin: 349999.87198785634
XMax: 945000.2286348271
YMax: 539999.871987905
Spatial Reference: 102666
(2239)
Full Extent:
XMin: 775000.2286347598
YMin: 349999.87198785634
XMax: 945000.2286348271
YMax: 539999.871987905
Spatial Reference: 102666
(2239)
Pixel Size X: 0.500000000000198
Pixel Size Y: 0.500000000000128
Band Count: 4
Pixel Type: U8
RasterFunction Infos: {"rasterFunctionInfos": [{
"name": "None",
"description": "",
"help": ""
}]}
Mensuration Capabilities: Basic
Inspection Capabilities:
Has Histograms: true
Has Colormap: false
Has Multi Dimensions : false
Rendering Rule:
Min Scale: 576765.7633713193
Max Scale: 281.623907896152
Min LOD: 9
Max LOD: 20
Copyright Text:
Service Data Type: esriImageServiceDataTypeGeneric
Min Values: 0, 0, 0, 0
Max Values: 255, 255, 255, 255
Mean Values: 90.12282664420141, 91.02167298440146, 77.12239507726922, 144.26647248895938
Standard Deviation Values: 40.26463189818294, 38.75732165706888, 33.52583438926476, 46.218031425057724
Object ID Field:
Fields:
None
Default Mosaic Method: Center
Allowed Mosaic Methods:
SortField:
SortValue: null
Mosaic Operator: First
Default Compression Quality: 75
Default Resampling Method: Bilinear
Max Record Count: null
Max Image Height: 4100
Max Image Width: 15000
Max Download Image Count: null
Max Mosaic Image Count: null
Allow Raster Function: true
Allow Copy: true
Allow Analysis: true
Allow Compute TiePoints: false
Supports Statistics: false
Supports Advanced Queries: false
Use StandardizedQueries: true
Raster Type Infos:
Name: Raster Dataset
Description: Supports all ArcGIS Raster Datasets
Help:
Has Raster Attribute Table: false
Edit Fields Info: null
Ownership Based AccessControl For Rasters: null
Child Resources:
Info
Histograms
Statistics
Key Properties
Legend
Raster Function Infos
Supported Operations:
Export Image
Identify
Measure
Compute Histograms
Compute Statistics Histograms
Get Samples
Compute Class Statistics
Query Boundary
Compute Pixel Location
Compute Angles
Validate
Project