{
 "currentVersion": 11.3,
 "serviceDescription": "GlynnImagery2024",
 "name": "GlynnImagery2024",
 "description": "",
 "extent": {
  "xmin": 775000.2286347598,
  "ymin": 349999.87198785634,
  "xmax": 945000.2286348271,
  "ymax": 539999.871987905,
  "spatialReference": {
   "wkid": 102666,
   "latestWkid": 2239
  }
 },
 "initialExtent": {
  "xmin": 775000.2286347598,
  "ymin": 349999.87198785634,
  "xmax": 945000.2286348271,
  "ymax": 539999.871987905,
  "spatialReference": {
   "wkid": 102666,
   "latestWkid": 2239
  }
 },
 "fullExtent": {
  "xmin": 775000.2286347598,
  "ymin": 349999.87198785634,
  "xmax": 945000.2286348271,
  "ymax": 539999.871987905,
  "spatialReference": {
   "wkid": 102666,
   "latestWkid": 2239
  }
 },
 "sortableFields": "",
 "bandCount": 4,
 "pixelType": "U8",
 "minValues": [
  0,
  0,
  0,
  0
 ],
 "maxValues": [
  255,
  255,
  255,
  255
 ],
 "meanValues": [
  90.12282664420141,
  91.02167298440146,
  77.12239507726922,
  144.26647248895938
 ],
 "stdvValues": [
  40.26463189818294,
  38.75732165706888,
  33.52583438926476,
  46.218031425057724
 ],
 "hasMultidimensions": false,
 "pixelSizeX": 0.500000000000198,
 "pixelSizeY": 0.500000000000128,
 "meanPixelSize": 0.1524003048006593,
 "datasetFormat": "FGDBR",
 "uncompressedSize": 516798480000,
 "blockWidth": 128,
 "blockHeight": 128,
 "compressionType": "LZ77",
 "bandNames": [
  "Band_1",
  "Band_2",
  "Band_3",
  "Band_4"
 ],
 "allowCopy": true,
 "allowAnalysis": true,
 "itemAccess": false,
 "inspectionCapabilities": "",
 "minPixelSize": 0.2444647088961251,
 "maxPixelSize": 500.6637238192642,
 "copyrightText": "",
 "serviceDataType": "esriImageServiceDataTypeGeneric",
 "serviceSourceType": "esriImageServiceSourceTypeDataset",
 "objectIdField": "",
 "fields": [],
 "capabilities": "Image,Metadata,Mensuration",
 "defaultMosaicMethod": "Center",
 "allowedMosaicMethods": "",
 "sortField": "",
 "sortValue": null,
 "sortAscending": true,
 "mosaicOperator": "First",
 "defaultCompressionQuality": 75,
 "defaultResamplingMethod": "Bilinear",
 "maxImageHeight": 4100,
 "maxImageWidth": 15000,
 "singleFusedMapCache": true,
 "tileInfo": {
  "rows": 256,
  "cols": 256,
  "dpi": 96,
  "format": "MIXED",
  "compressionQuality": 75,
  "origin": {
   "x": -3.2155331137552634E7,
   "y": 2.1919848371993378E7
  },
  "spatialReference": {
   "wkid": 102666,
   "latestWkid": 2239
  },
  "lods": [
   {
    "level": 0,
    "resolution": 256339.8265954633,
    "scale": 2.9530407084611547E8
   },
   {
    "level": 1,
    "resolution": 128169.91329773165,
    "scale": 1.4765203542305773E8
   },
   {
    "level": 2,
    "resolution": 64084.956648865824,
    "scale": 7.382601771152887E7
   },
   {
    "level": 3,
    "resolution": 32042.478324432912,
    "scale": 3.6913008855764434E7
   },
   {
    "level": 4,
    "resolution": 16021.239162216456,
    "scale": 1.8456504427882217E7
   },
   {
    "level": 5,
    "resolution": 8010.619581108228,
    "scale": 9228252.213941108
   },
   {
    "level": 6,
    "resolution": 4005.309790554114,
    "scale": 4614126.106970554
   },
   {
    "level": 7,
    "resolution": 2002.654895277057,
    "scale": 2307063.053485277
   },
   {
    "level": 8,
    "resolution": 1001.3274476385285,
    "scale": 1153531.5267426386
   },
   {
    "level": 9,
    "resolution": 500.66372381926425,
    "scale": 576765.7633713193
   },
   {
    "level": 10,
    "resolution": 250.33186190963212,
    "scale": 288382.88168565964
   },
   {
    "level": 11,
    "resolution": 125.16593095481606,
    "scale": 144191.44084282982
   },
   {
    "level": 12,
    "resolution": 62.58296547740803,
    "scale": 72095.72042141491
   },
   {
    "level": 13,
    "resolution": 31.291482738704016,
    "scale": 36047.860210707455
   },
   {
    "level": 14,
    "resolution": 15.645741369352008,
    "scale": 18023.930105353727
   },
   {
    "level": 15,
    "resolution": 7.822870684676004,
    "scale": 9011.965052676864
   },
   {
    "level": 16,
    "resolution": 3.911435342338002,
    "scale": 4505.982526338432
   },
   {
    "level": 17,
    "resolution": 1.955717671169001,
    "scale": 2252.991263169216
   },
   {
    "level": 18,
    "resolution": 0.9778588355845005,
    "scale": 1126.495631584608
   },
   {
    "level": 19,
    "resolution": 0.48892941779225024,
    "scale": 563.247815792304
   },
   {
    "level": 20,
    "resolution": 0.24446470889612512,
    "scale": 281.623907896152
   },
   {
    "level": 21,
    "resolution": 0.12223235444806256,
    "scale": 140.811953948076
   },
   {
    "level": 22,
    "resolution": 0.06111617722403128,
    "scale": 70.405976974038
   },
   {
    "level": 23,
    "resolution": 0.03055808861201564,
    "scale": 35.202988487019
   }
  ]
 },
 "storageInfo": {
  "storageFormat": "esriMapCacheStorageModeCompactV2",
  "packetSize": 128
 },
 "cacheType": "Map",
 "allowRasterFunction": true,
 "rasterFunctionInfos": [
  {
   "name": "None",
   "description": "",
   "help": ""
  }
 ],
 "rasterTypeInfos": [
  {
   "name": "Raster Dataset",
   "description": "Supports all ArcGIS Raster Datasets",
   "help": ""
  }
 ],
 "mensurationCapabilities": "Basic",
 "hasHistograms": true,
 "hasColormap": false,
 "hasRasterAttributeTable": false,
 "minScale": 576765.7633713193,
 "maxScale": 281.623907896152,
 "minLOD": 9,
 "maxLOD": 20,
 "exportTilesAllowed": false,
 "supportsStatistics": false,
 "supportsAdvancedQueries": false,
 "editFieldsInfo": null,
 "ownershipBasedAccessControlForRasters": null,
 "allowComputeTiePoints": false,
 "useStandardizedQueries": true,
 "advancedQueryCapabilities": {
  "useStandardizedQueries": true,
  "supportsStatistics": false,
  "supportsOrderBy": false,
  "supportsDistinct": false,
  "supportsPagination": false
 },
 "spatialReference": {
  "wkid": 102666,
  "latestWkid": 2239
 }
}
